BEGIN:VCALENDAR
VERSION:2.0
PRODID:-//ChamberMaster//Event Calendar 2.0//EN
METHOD:PUBLISH
X-PUBLISHED-TTL:P3D
REFRESH-INTERVAL:P3D
CALSCALE:GREGORIAN
BEGIN:VEVENT
DTSTART:20260214T200000Z
DTEND:20260214T211500Z
X-MICROSOFT-CDO-ALLDAYEVENT:FALSE
SUMMARY:Prescott Computer Society
DESCRIPTION:PRESCOTT COMPUTER SOCIETY   free online Zoom presentation topic on "An Introduction to Linux" What it is and why would you want to use it? Presented by John Kennedy from 1:00-2:00 pm. Linux is free\, open-source and highly secure operating system that meets every day people's computer needs and why people are switching to Linux. This computer society is open to all who wish to learn more and is available to anyone\, including non-members\, who wish to join us online. Participants who wish to attend\, need to receive their Zoom connection information by registering on our website at www.pcs4me.com.
X-ALT-DESC;FMTTYPE=text/html:PRESCOTT COMPUTER SOCIETY &ndash\; free online Zoom presentation topic on &ldquo\;An Introduction to Linux&rdquo\; What it is and why would you want to use it? Presented by John Kennedy from 1:00-2:00 pm. Linux is free\, open-source and highly secure operating system that meets every day people&rsquo\;s computer needs and why people are switching to Linux. This computer society is open to all who wish to learn more and is available to anyone\, including non-members\, who wish to join us online. Participants who wish to attend\, need to receive their Zoom connection information by registering on our website at www.pcs4me.com.
LOCATION:Zoom
UID:e.1880.6133
SEQUENCE:3
DTSTAMP:20260422T011315Z
URL:https://business.chinovalley.org/events/details/prescott-computer-society-02-14-2026-6133
END:VEVENT

END:VCALENDAR
