BEGIN:VCALENDAR
VERSION:2.0
PRODID:-//ChamberMaster//Event Calendar 2.0//EN
METHOD:PUBLISH
X-PUBLISHED-TTL:P3D
REFRESH-INTERVAL:P3D
CALSCALE:GREGORIAN
BEGIN:VEVENT
DTSTART:20250705T200000Z
DTEND:20250705T210000Z
X-MICROSOFT-CDO-ALLDAYEVENT:FALSE
SUMMARY:Prescott Computer Society
DESCRIPTION:PRESCOTT COMPUTER SOCIETY presentation   "Smart Phone Photography SIG" by Phil Ball. Time: 1:00-2:00pm. This is a free Zoom presentation that is available to anyone. To obtain your Zoom connection information\, please go to our website at https://pcs4me.com Prescott Computer Society has been learning and sharing since 1988. Thank you for your interest and support
X-ALT-DESC;FMTTYPE=text/html:PRESCOTT COMPUTER SOCIETY presentation &mdash\; &ldquo\;Smart Phone Photography SIG&rdquo\; by Phil Ball. Time: 1:00-2:00pm. This is a free Zoom presentation that is available to anyone. To obtain your Zoom connection information\, please go to our website at https://pcs4me.com Prescott Computer Society has been learning and sharing since 1988. Thank you for your interest and support
LOCATION:Zoom presentation
UID:e.1880.5948
SEQUENCE:3
DTSTAMP:20260421T103418Z
URL:https://business.chinovalley.org/events/details/prescott-computer-society-07-05-2025-5948
END:VEVENT

END:VCALENDAR
