BEGIN:VCALENDAR
VERSION:2.0
PRODID:-//ChamberMaster//Event Calendar 2.0//EN
METHOD:PUBLISH
X-PUBLISHED-TTL:P3D
REFRESH-INTERVAL:P3D
CALSCALE:GREGORIAN
BEGIN:VEVENT
DTSTART:20250802T200000Z
DTEND:20250802T211500Z
X-MICROSOFT-CDO-ALLDAYEVENT:FALSE
SUMMARY:Prescott Computer Society
DESCRIPTION:PRESCOTT COMPUTER SOCIETY presentation   "Online Security Secrets" online threats\, smishing\, identity theft\, scams\, fake websites\, etc.. and the importance of strong passwords protection by JB Burke. A FREE Zoom presentation Time 1:00pm-2-15pm. This Society is open to all who wish to learn more about computer software and hardware. To obtain the Zoom connection for this presentation\, please go to our Society's website at www.prescottcomputersociety.com to sign in. Thank you for your interest and support.
X-ALT-DESC;FMTTYPE=text/html:PRESCOTT COMPUTER SOCIETY presentation &mdash\; &ldquo\;Online Security Secrets&rdquo\; online threats\, smishing\, identity theft\, scams\, fake websites\, etc.. and the importance of strong passwords protection by JB Burke. A FREE Zoom presentation Time 1:00pm-2-15pm. This Society is open to all who wish to learn more about computer software and hardware. To obtain the Zoom connection for this presentation\, please go to our Society&rsquo\;s website at www.prescottcomputersociety.com to sign in. Thank you for your interest and support.
LOCATION:Zoom
UID:e.1880.6004
SEQUENCE:3
DTSTAMP:20260419T132101Z
URL:https://business.chinovalley.org/events/details/prescott-computer-society-08-02-2025-6004
END:VEVENT

END:VCALENDAR
