BEGIN:VCALENDAR
VERSION:2.0
PRODID:-//ChamberMaster//Event Calendar 2.0//EN
METHOD:PUBLISH
X-PUBLISHED-TTL:P3D
REFRESH-INTERVAL:P3D
CALSCALE:GREGORIAN
BEGIN:VEVENT
DTSTART:20250906T200000Z
DTEND:20250906T211500Z
X-MICROSOFT-CDO-ALLDAYEVENT:FALSE
SUMMARY:Prescott Computer Society
DESCRIPTION:PRESCOTT COMPUTER SOCIETY presentation   "Smartphone Photography" processing digital images using Photoshop Elements by JB Burke. A FREE Zoom presentation\, Time 1:00 pm-2:15 pm. This Society is open to all who wish to learn more about computer software and hardware. To obtain the Zoom connection for this presentation\, please go to our Society's website at www.prescottcomputersociety.com to sign in. Thank you for your interest and support.
X-ALT-DESC;FMTTYPE=text/html:PRESCOTT COMPUTER SOCIETY presentation &mdash\; &ldquo\;Smartphone Photography&rdquo\; processing digital images using Photoshop Elements by JB Burke. A FREE Zoom presentation\, Time 1:00 pm-2:15 pm. This Society is open to all who wish to learn more about computer software and hardware. To obtain the Zoom connection for this presentation\, please go to our Society&rsquo\;s website at www.prescottcomputersociety.com to sign in. Thank you for your interest and support.
LOCATION:Zoom presenation
UID:e.1880.6005
SEQUENCE:3
DTSTAMP:20260419T145159Z
URL:https://business.chinovalley.org/events/details/prescott-computer-society-09-06-2025-6005
END:VEVENT

END:VCALENDAR
