BEGIN:VCALENDAR
VERSION:2.0
PRODID:-//ChamberMaster//Event Calendar 2.0//EN
METHOD:PUBLISH
X-PUBLISHED-TTL:P3D
REFRESH-INTERVAL:P3D
CALSCALE:GREGORIAN
BEGIN:VEVENT
DTSTART:20250913T200000Z
DTEND:20250913T210000Z
X-MICROSOFT-CDO-ALLDAYEVENT:FALSE
SUMMARY:Prescott Computer Society
DESCRIPTION:PRESCOTT COMPUTER SOCIETY presentation   "Artificial Intelligence" fun & useful tips by Chris Taylor. Time 1:00-2:00 PM and is free. This Society is open to all who wish to learn more about computer software and hardware. Participants must register to receive Zoom connection information at www.pcs4me.com. Thank you for your interest and support.
X-ALT-DESC;FMTTYPE=text/html:PRESCOTT COMPUTER SOCIETY presentation &mdash\; &ldquo\;Artificial Intelligence&rdquo\; fun &amp\; useful tips by Chris Taylor. Time 1:00-2:00 PM and is free. This Society is open to all who wish to learn more about computer software and hardware. Participants must register to receive Zoom connection information at www.pcs4me.com. Thank you for your interest and support.
LOCATION:Zoom
UID:e.1880.6034
SEQUENCE:3
DTSTAMP:20260419T145203Z
URL:https://business.chinovalley.org/events/details/prescott-computer-society-09-13-2025-6034
END:VEVENT

END:VCALENDAR
