BEGIN:VCALENDAR
VERSION:2.0
PRODID:-//ChamberMaster//Event Calendar 2.0//EN
METHOD:PUBLISH
X-PUBLISHED-TTL:P3D
REFRESH-INTERVAL:P3D
CALSCALE:GREGORIAN
BEGIN:VEVENT
DTSTART:20251004T200000Z
DTEND:20251004T213000Z
X-MICROSOFT-CDO-ALLDAYEVENT:FALSE
SUMMARY:Prescott Computer Society
DESCRIPTION:October 4th\, Saturday\, 1:00 pm - 2:30 PM PRESCOTT COMPUTER SOCIETY presentation   "Touring the WEB" by JB Burke. Time: 1:00-2:30 PM and it is free. Ask the question\, "Can there possibly be more to find on the Internet? Of course. This Society is open to all who wish to learn more about computer software and hardware. Participants must register to receive Zoom connection information at www.pcs4me.com. Thank you for your interest and support. Cordially submitted on behalf of the Prescott Computer Society by: Gerry Breuer (928)227-7452 Email: gjmbre@outlook.com THANK YOU.
X-ALT-DESC;FMTTYPE=text/html:October 4th\, Saturday\, 1:00 pm - 2:30 PM PRESCOTT COMPUTER SOCIETY presentation &mdash\; &ldquo\;Touring the WEB&rdquo\; by JB Burke. Time: 1:00-2:30 PM and it is free. Ask the question\, &ldquo\;Can there possibly be more to find on the Internet? Of course. This Society is open to all who wish to learn more about computer software and hardware. Participants must register to receive Zoom connection information at www.pcs4me.com. Thank you for your interest and support. Cordially submitted on behalf of the Prescott Computer Society by: Gerry Breuer (928)227-7452 Email: gjmbre@outlook.com THANK YOU.
LOCATION:Zoom
UID:e.1880.6035
SEQUENCE:3
DTSTAMP:20260419T162036Z
URL:https://business.chinovalley.org/events/details/prescott-computer-society-10-04-2025-6035
END:VEVENT

END:VCALENDAR
