BEGIN:VCALENDAR
VERSION:2.0
PRODID:-//ChamberMaster//Event Calendar 2.0//EN
METHOD:PUBLISH
X-PUBLISHED-TTL:P3D
REFRESH-INTERVAL:P3D
CALSCALE:GREGORIAN
BEGIN:VEVENT
DTSTART:20251011T200000Z
DTEND:20251011T213000Z
X-MICROSOFT-CDO-ALLDAYEVENT:FALSE
SUMMARY:Prescott Computer Society
DESCRIPTION:PRESCOTT COMPUTER SOCIETY - free online event via ZOOM presentation   "Beyond Just: Google It" by Judy Taylour. Time: 1:00 - 2:30 PM. Ask the question\, "Is there more exploring Google's Ecosystem? Of course. This Society is open to all who wish to learn more about computer software and hardware. Participants must register to receive Zoom connection information at www.pcs4me.com. Thank you for your interest and support.
X-ALT-DESC;FMTTYPE=text/html:PRESCOTT COMPUTER SOCIETY - free online event via ZOOM presentation &mdash\; &ldquo\;Beyond Just: Google It&rdquo\; by Judy Taylour. Time: 1:00 - 2:30 PM. Ask the question\, &ldquo\;Is there more exploring Google&rsquo\;s Ecosystem? Of course. This Society is open to all who wish to learn more about computer software and hardware. Participants must register to receive Zoom connection information at www.pcs4me.com. Thank you for your interest and support.
LOCATION:Zoom
UID:e.1880.6061
SEQUENCE:3
DTSTAMP:20260419T162137Z
URL:https://business.chinovalley.org/events/details/prescott-computer-society-10-11-2025-6061
END:VEVENT

END:VCALENDAR
