BEGIN:VCALENDAR
VERSION:2.0
PRODID:-//ChamberMaster//Event Calendar 2.0//EN
METHOD:PUBLISH
X-PUBLISHED-TTL:P3D
REFRESH-INTERVAL:P3D
CALSCALE:GREGORIAN
BEGIN:VEVENT
DTSTART:20251213T200000Z
DTEND:20251213T213000Z
X-MICROSOFT-CDO-ALLDAYEVENT:FALSE
SUMMARY:Prescott Computer Society
DESCRIPTION:PRESCOTT COMPUTER SOCIETY - free online event via ZOOM presentation   "Surviving Screen Time" presented by Judy Taylor. How long hours of screen time affect physical health\, neck\, eyes and shoulder syndromes. Time: 1:00   2:30 pm. This Society is open to all who wish to learn more about computer software and hardware. Participants need to register for this Zoom meeting and receive their Zoom connection information at www.pcs4me.com. Thank you for your interest and support.
X-ALT-DESC;FMTTYPE=text/html:PRESCOTT COMPUTER SOCIETY - free online event via ZOOM presentation &mdash\; &ldquo\;Surviving Screen Time&rdquo\; presented by Judy Taylor. How long hours of screen time affect physical health\, neck\, eyes and shoulder syndromes. Time: 1:00 &ndash\; 2:30 pm. This Society is open to all who wish to learn more about computer software and hardware. Participants need to register for this Zoom meeting and receive their Zoom connection information at www.pcs4me.com. Thank you for your interest and support.
LOCATION:Zoom presentaion
UID:e.1880.6095
SEQUENCE:3
DTSTAMP:20260421T221212Z
URL:https://business.chinovalley.org/events/details/prescott-computer-society-12-13-2025-6095
END:VEVENT

END:VCALENDAR
