BEGIN:VCALENDAR
VERSION:2.0
PRODID:-//ChamberMaster//Event Calendar 2.0//EN
METHOD:PUBLISH
X-PUBLISHED-TTL:P3D
REFRESH-INTERVAL:P3D
CALSCALE:GREGORIAN
BEGIN:VEVENT
DTSTART:20240803T200000Z
DTEND:20240803T210000Z
X-MICROSOFT-CDO-ALLDAYEVENT:FALSE
SUMMARY:PRESCOTT COMPUTER SOCIETY Meeting
DESCRIPTION:PRESCOTT COMPUTER SOCIETY Meeting TOPIC: Everyday use of Android Devices and Apps "Using Camera and Gallery Apps" @ 1:00pm via ZOOM. Meetings are available to anyone\, including non-members who wish to join us online. Participants need to register in order to receive Zoom connection information at www.pcs4me.com
X-ALT-DESC;FMTTYPE=text/html:PRESCOTT COMPUTER SOCIETY Meeting TOPIC: Everyday use of Android Devices and Apps &ldquo\;Using Camera and Gallery Apps&rdquo\; @ 1:00pm via ZOOM. Meetings are available to anyone\, including non-members who wish to join us online. Participants need to register in order to receive Zoom connection information at www.pcs4me.com
LOCATION:Online Zoom
UID:e.1880.5693
SEQUENCE:3
DTSTAMP:20260422T152638Z
URL:https://business.chinovalley.org/events/details/prescott-computer-society-meeting-08-03-2024-5693
END:VEVENT

END:VCALENDAR
