BEGIN:VCALENDAR
VERSION:2.0
PRODID:-//ChamberMaster//Event Calendar 2.0//EN
METHOD:PUBLISH
X-PUBLISHED-TTL:P3D
REFRESH-INTERVAL:P3D
CALSCALE:GREGORIAN
BEGIN:VEVENT
DTSTART:20260228T020000Z
DTEND:20260309T040000Z
X-MICROSOFT-CDO-ALLDAYEVENT:FALSE
SUMMARY:Prescott Valley Performing Arts and OneStory Music Presents: Disney's Freaky Friday One Act
DESCRIPTION:This brand-new one-act musical brings to life the classic tale with a modern twist! Freaky Friday is a contemporary show featuring opportunities for a diverse ensemble lead by two extraordinary female leads. When an uber-organized mother and her spontaneous teenage daughter magically swap bodies\, they have just one day to put things right. Masquerading as each other\, they must work together to solve the mystery of how to break the spell. By spending a day in each other's shoes\, Katherine and Ellie come to appreciate one another in a way they never could have imagined. In the end\, both learn the true power of love and the strength of the bond between a mother and daughter in this heartfelt and hilarious adaptation. Based on the beloved 1972 novel by Mary Rodgers and the hit Disney films\, Freaky Friday features a book by Bridget Carpenter   the writer of the TV hits\, "Friday Night Lights" and "Parenthood"   and music and lyrics by Tom Kitt and Brian Yorkey   the Pulitzer Prize and Tony Award -winning composers of Next to Normal.
X-ALT-DESC;FMTTYPE=text/html:This brand-new one-act musical brings to life the classic tale with a modern twist! Freaky Friday is a contemporary show featuring opportunities for a diverse ensemble lead by two extraordinary female leads. When an uber-organized mother and her spontaneous teenage daughter magically swap bodies\, they have just one day to put things right. Masquerading as each other\, they must work together to solve the mystery of how to break the spell. By spending a day in each other&rsquo\;s shoes\, Katherine and Ellie come to appreciate one another in a way they never could have imagined. In the end\, both learn the true power of love and the strength of the bond between a mother and daughter in this heartfelt and hilarious adaptation. Based on the beloved 1972 novel by Mary Rodgers and the hit Disney films\, Freaky Friday features a book by Bridget Carpenter &ndash\; the writer of the TV hits\, &ldquo\;Friday Night Lights&rdquo\; and &ldquo\;Parenthood&rdquo\; &ndash\; and music and lyrics by Tom Kitt and Brian Yorkey &ndash\; the Pulitzer Prize and Tony Award&reg\;-winning composers of Next to Normal.
LOCATION:Main Street Theatre 3235 E. Main Street Prescott Valley\, AZ 86314
UID:e.1880.6143
SEQUENCE:3
DTSTAMP:20260422T011449Z
URL:https://business.chinovalley.org/events/details/prescott-valley-performing-arts-and-onestory-music-presents-disney-s-freaky-friday-one-act-6143
END:VEVENT

END:VCALENDAR
