BEGIN:VCALENDAR
VERSION:2.0
PRODID:-//ChamberMaster//Event Calendar 2.0//EN
METHOD:PUBLISH
X-PUBLISHED-TTL:P3D
REFRESH-INTERVAL:P3D
CALSCALE:GREGORIAN
BEGIN:VEVENT
DTSTART:20260207T020000Z
DTEND:20260215T040000Z
X-MICROSOFT-CDO-ALLDAYEVENT:FALSE
SUMMARY:Prescott Valley Performing Arts Presents: Ken Ludwig's Lend Me a Soprano
DESCRIPTION:Lend Me a Soprano\, by Ken Ludwig\, is a gender-swapped\, madcap comedy inspired by his Tony Award-winning "Lend Me a Tenor." It centers around a world-class soprano\, Elena Firenzi\, and her one-night-only performance in "Carmen" at the Cleveland Grand Opera Company. The plot follows the hilarious chaos that erupts as various characters\, including Elena's jealous husband\, the eager manager\, and a womanizing opera company member\, all conspire to make the performance a disaster. Ultimately\, it's a humorous tale of mistaken identities\, passionate (and sometimes misplaced) affections\, and the unpredictable nature of opera backstage.
X-ALT-DESC;FMTTYPE=text/html:Lend Me a Soprano\, by Ken Ludwig\, is a gender-swapped\, madcap comedy inspired by his Tony Award-winning &quot\;Lend Me a Tenor.&quot\; It centers around a world-class soprano\, Elena Firenzi\, and her one-night-only performance in &quot\;Carmen&quot\; at the Cleveland Grand Opera Company. The plot follows the hilarious chaos that erupts as various characters\, including Elena&#39\;s jealous husband\, the eager manager\, and a womanizing opera company member\, all conspire to make the performance a disaster. Ultimately\, it&#39\;s a humorous tale of mistaken identities\, passionate (and sometimes misplaced) affections\, and the unpredictable nature of opera backstage.
LOCATION:Main Street Theatre 325 E. Main Street Prescott Valley\, AZ 86314
UID:e.1880.6142
SEQUENCE:3
DTSTAMP:20260422T011418Z
URL:https://business.chinovalley.org/events/details/prescott-valley-performing-arts-presents-ken-ludwig-s-lend-me-a-soprano-6142
END:VEVENT

END:VCALENDAR
