BEGIN:VCALENDAR
VERSION:2.0
PRODID:-//ChamberMaster//Event Calendar 2.0//EN
METHOD:PUBLISH
X-PUBLISHED-TTL:P3D
REFRESH-INTERVAL:P3D
CALSCALE:GREGORIAN
BEGIN:VEVENT
DTSTART:20251018T210000Z
DTEND:20251019T010000Z
X-MICROSOFT-CDO-ALLDAYEVENT:FALSE
SUMMARY:Pumpkin Patch
DESCRIPTION:Chino Valley Homestead would like to invite you all to celebrate the season with us! Pumpkin Patch Pick Your Perfect Pumpkin Local craft and small business vendors. Family-friendly activities and photo ops. All admission proceeds go to helping us build a self-serve stand so we can provide our community with high-quality\, affordable eggs\, baked goods\, homemade jams\, and flower bouquets (when in season). By coming out to our event\, you're helping us get one step closer to making that happen.
X-ALT-DESC;FMTTYPE=text/html:Chino Valley Homestead would like to invite you all to celebrate the season with us! Pumpkin Patch Pick Your Perfect Pumpkin Local craft and small business vendors. Family-friendly activities and photo ops. All admission proceeds go to helping us build a self-serve stand so we can provide our community with high-quality\, affordable eggs\, baked goods\, homemade jams\, and flower bouquets (when in season). By coming out to our event\, you&#39\;re helping us get one step closer to making that happen.
LOCATION:920 E. Road 2 South Chin Valley\, AZ 86323
UID:e.1880.6094
SEQUENCE:3
DTSTAMP:20260419T161737Z
URL:https://business.chinovalley.org/events/details/pumpkin-patch-6094
END:VEVENT

END:VCALENDAR
