BEGIN:VCALENDAR
VERSION:2.0
PRODID:-//ChamberMaster//Event Calendar 2.0//EN
METHOD:PUBLISH
X-PUBLISHED-TTL:P3D
REFRESH-INTERVAL:P3D
CALSCALE:GREGORIAN
BEGIN:VEVENT
DTSTART:20250814T221500Z
DTEND:20250814T231500Z
X-MICROSOFT-CDO-ALLDAYEVENT:FALSE
SUMMARY:Read to a Dog
DESCRIPTION:Come read to a friendly therapy dog afterschool and gain confidence reading! (also held Tuesdays 11am-12pm\, ideal for homeschoolers or kids not yet in school)
X-ALT-DESC;FMTTYPE=text/html:Come read to a friendly therapy dog afterschool and gain confidence reading! (also held Tuesdays 11am-12pm\, ideal for homeschoolers or kids not yet in school)
LOCATION:Chino Valley Public Library
UID:e.1880.6026
SEQUENCE:3
DTSTAMP:20260419T130807Z
URL:https://business.chinovalley.org/events/details/read-to-a-dog-6026
END:VEVENT

END:VCALENDAR
