BEGIN:VCALENDAR
VERSION:2.0
PRODID:-//ChamberMaster//Event Calendar 2.0//EN
METHOD:PUBLISH
X-PUBLISHED-TTL:P3D
REFRESH-INTERVAL:P3D
CALSCALE:GREGORIAN
BEGIN:VEVENT
DTSTART:20250923T190000Z
DTEND:20250923T190000Z
X-MICROSOFT-CDO-ALLDAYEVENT:FALSE
SUMMARY:Reverse Mortgage Lunch & Learn
DESCRIPTION:Discover Smart Strategies for Retirement\, Income & Independence What You'll Learn: How to access home equity through a reverse mortgage Ways to supplement retirement income Covering medical expenses and funding home improvements Enhancing quality of life and maintaining independence Why Attend: Get expert insights on this powerful financial tool Learn how a reverse mortgage can benefit you or your clients Ask questions and get real answers in a friendly\, informative setting Reserve your spot today and take the first step toward financial peace of mind in retirement! Register Here: arizonareversemortgages.net/events Event Date: Tuesday\, September 23rd\, 2025 11:30am-1:00pm Location: Yavapai Title Agency 1235 E Gurley St\, Prescott\, AZ 86301 Traci Ranic - Reverse Mortgage Specialist Office: 928-202-4270 Cell/Text: 916-813-4213 Email: traci@ffaz.us frontierfinancialaz.com | arizonareversemortgages.net
X-ALT-DESC;FMTTYPE=text/html:Discover Smart Strategies for Retirement\, Income &amp\; Independence What You&rsquo\;ll Learn: How to access home equity through a reverse mortgage Ways to supplement retirement income Covering medical expenses and funding home improvements Enhancing quality of life and maintaining independence Why Attend: Get expert insights on this powerful financial tool Learn how a reverse mortgage can benefit you or your clients Ask questions and get real answers in a friendly\, informative setting Reserve your spot today and take the first step toward financial peace of mind in retirement! Register Here: arizonareversemortgages.net/events Event Date: Tuesday\, September 23rd\, 2025 11:30am-1:00pm Location: Yavapai Title Agency 1235 E Gurley St\, Prescott\, AZ 86301 Traci Ranic - Reverse Mortgage Specialist Office: 928-202-4270 Cell/Text: 916-813-4213 Email: traci@ffaz.us frontierfinancialaz.com | arizonareversemortgages.net
LOCATION:Yavapai Title Agency 1235 E Gurley St\, Prescott\, AZ 86301
UID:e.1880.6042
SEQUENCE:3
DTSTAMP:20260419T144155Z
URL:https://business.chinovalley.org/events/details/reverse-mortgage-lunch-learn-09-23-2025-6042
END:VEVENT

END:VCALENDAR
