BEGIN:VCALENDAR
VERSION:2.0
PRODID:-//ChamberMaster//Event Calendar 2.0//EN
METHOD:PUBLISH
X-PUBLISHED-TTL:P3D
REFRESH-INTERVAL:P3D
CALSCALE:GREGORIAN
BEGIN:VEVENT
DTSTART:20251109T020000Z
DTEND:20251109T050000Z
X-MICROSOFT-CDO-ALLDAYEVENT:FALSE
SUMMARY:Salt of the Earth-Live in Concert
DESCRIPTION:Salt of the Earth is a LOCAL front porch pickin' musical combo\, progressive mountain music meets folk rock. Lead Vocals: Susan Kelly\, Mandolin and vocals: Dallas Norman\, Bass: Bobby Bennett\, Violin: Alicia Previn\, Guitar: Michael Lewis
X-ALT-DESC;FMTTYPE=text/html:Salt of the Earth is a LOCAL front porch pickin&#39\; musical combo\, progressive mountain music meets folk rock. Lead Vocals: Susan Kelly\, Mandolin and vocals: Dallas Norman\, Bass: Bobby Bennett\, Violin: Alicia Previn\, Guitar: Michael Lewis
LOCATION:Main Street Theatre 3235 N. Main Street Prescott Valley\, AZ 86314
UID:e.1880.6097
SEQUENCE:3
DTSTAMP:20260419T181439Z
URL:https://business.chinovalley.org/events/details/salt-of-the-earth-live-in-concert-6097
END:VEVENT

END:VCALENDAR
