BEGIN:VCALENDAR
VERSION:2.0
PRODID:-//ChamberMaster//Event Calendar 2.0//EN
METHOD:PUBLISH
X-PUBLISHED-TTL:P3D
REFRESH-INTERVAL:P3D
CALSCALE:GREGORIAN
BEGIN:VEVENT
DTSTART:20251112T000000Z
DTEND:20251112T020000Z
X-MICROSOFT-CDO-ALLDAYEVENT:FALSE
SUMMARY:Senior Referral Network Networking Event
DESCRIPTION:Special Veterans Day Edition   Senior Referral Network Networking Event The Senior Referral Network connects and builds relationships between local senior service care providers. Whether you work in the senior services industry\, care for a loved one\, or are a retiree seeking valuable connections with like-minded individuals and senior service businesses\, this is the perfect community for you! This special Veterans Day edition will focus on honoring veterans in our community and highlighting veteran programs and resources available. It's a meaningful opportunity to show gratitude\, learn about local support\, and make valuable connections. Meet and build relationships with professionals & caregivers in the local senior service industry. Our goal is to bring together all the essential resources you\, your family\, or your clients may ever require\, all under one roof. We've assembled a remarkable lineup of the best service providers from our community who will be present to share their expertise with you. Don't miss out on this unique night of connections\, honoring our veterans\, great food\, and lots of fun!
X-ALT-DESC;FMTTYPE=text/html:Special Veterans Day Edition &ndash\; Senior Referral Network Networking Event The Senior Referral Network connects and builds relationships between local senior service care providers. Whether you work in the senior services industry\, care for a loved one\, or are a retiree seeking valuable connections with like-minded individuals and senior service businesses\, this is the perfect community for you! This special Veterans Day edition will focus on honoring veterans in our community and highlighting veteran programs and resources available. It&rsquo\;s a meaningful opportunity to show gratitude\, learn about local support\, and make valuable connections. Meet and build relationships with professionals &amp\; caregivers in the local senior service industry. Our goal is to bring together all the essential resources you\, your family\, or your clients may ever require\, all under one roof. We&rsquo\;ve assembled a remarkable lineup of the best service providers from our community who will be present to share their expertise with you. Don&rsquo\;t miss out on this unique night of connections\, honoring our veterans\, great food\, and lots of fun!
LOCATION:The Center 1280 E Rosser St. Prescott\, AZ 86301
UID:e.1880.6041
SEQUENCE:3
DTSTAMP:20260419T180548Z
URL:https://business.chinovalley.org/events/details/senior-referral-network-networking-event-11-11-2025-6041
END:VEVENT

END:VCALENDAR
