BEGIN:VCALENDAR
VERSION:2.0
PRODID:-//ChamberMaster//Event Calendar 2.0//EN
METHOD:PUBLISH
X-PUBLISHED-TTL:P3D
REFRESH-INTERVAL:P3D
CALSCALE:GREGORIAN
BEGIN:VEVENT
DTSTART:20250807T150000Z
DTEND:20250807T200000Z
X-MICROSOFT-CDO-ALLDAYEVENT:FALSE
SUMMARY:Senior Softball
DESCRIPTION:Senior Softball games are played every Monday and Thursday @ 8am at Pioneer Park in Prescott.  Open to men and women age 50+ from in and around the quad-cities.  Three levels of competition. See www.prescottseniorsoftball.com for more information.
X-ALT-DESC;FMTTYPE=text/html:Senior Softball games are played every Monday and Thursday @ 8am at Pioneer Park in Prescott.&nbsp\; Open to men and women age 50+ from in and around the quad-cities.&nbsp\; Three levels of competition. See www.prescottseniorsoftball.com for more information.
LOCATION:Pioneer Park\, 1200 Commerce Dr.\, Prescott
UID:e.1880.6012
SEQUENCE:3
DTSTAMP:20260419T131732Z
URL:https://business.chinovalley.org/events/details/senior-softball-08-07-2025-6012
END:VEVENT

END:VCALENDAR
