BEGIN:VCALENDAR
VERSION:2.0
PRODID:-//ChamberMaster//Event Calendar 2.0//EN
METHOD:PUBLISH
X-PUBLISHED-TTL:P3D
REFRESH-INTERVAL:P3D
CALSCALE:GREGORIAN
BEGIN:VEVENT
DTSTART:20250929T153000Z
DTEND:20250929T193000Z
X-MICROSOFT-CDO-ALLDAYEVENT:FALSE
SUMMARY:Senior Softball
DESCRIPTION:Senior Softball games are played every Monday and Thursday mornings at Pioneer Park\, 1200 Commerce Dr.\, Prescott.  Open to men and women ages 50+ from in and around the quad-cities.  Three levels of competition.  See prescottseniorsoftball.com for more info.
X-ALT-DESC;FMTTYPE=text/html:Senior Softball games are played every Monday and Thursday mornings at Pioneer Park\, 1200 Commerce Dr.\, Prescott.&nbsp\; Open to men and women ages 50+ from in and around the quad-cities.&nbsp\; Three levels of competition.&nbsp\; See prescottseniorsoftball.com for more info.
LOCATION:1200 Commerce Dr. Prescott
UID:e.1880.6056
SEQUENCE:3
DTSTAMP:20260419T144314Z
URL:https://business.chinovalley.org/events/details/senior-softball-09-29-2025-6056
END:VEVENT

END:VCALENDAR
