BEGIN:VCALENDAR
VERSION:2.0
PRODID:-//ChamberMaster//Event Calendar 2.0//EN
METHOD:PUBLISH
X-PUBLISHED-TTL:P3D
REFRESH-INTERVAL:P3D
CALSCALE:GREGORIAN
BEGIN:VEVENT
DTSTART:20251116T020000Z
DTEND:20251123T000000Z
X-MICROSOFT-CDO-ALLDAYEVENT:FALSE
SUMMARY:Shakespeare's Twelfth Night
DESCRIPTION:Twelfth Night is a Shakespearean comedy exploring love\, mistaken identity\, and the suspension of social order. It features a shipwreck that leads to the twins Viola and Sebastian's separation\, with Viola disguising herself as a man and entering the service of Duke Orsino. Orsino is infatuated with Lady Olivia\, who is in mourning\, and sends Viola\, disguised as Cesario\, to woo her. Olivia falls in love with Cesario\, creating a complex web of romantic entanglements and mistaken identities.
X-ALT-DESC;FMTTYPE=text/html:Twelfth Night is a Shakespearean comedy exploring love\, mistaken identity\, and the suspension of social order. It features a shipwreck that leads to the twins Viola and Sebastian&#39\;s separation\, with Viola disguising herself as a man and entering the service of Duke Orsino. Orsino is infatuated with Lady Olivia\, who is in mourning\, and sends Viola\, disguised as Cesario\, to woo her. Olivia falls in love with Cesario\, creating a complex web of romantic entanglements and mistaken identities.
LOCATION:Main Street Theatre 3235 N. Main Street Prescott Valley\, AZ 86314
UID:e.1880.6098
SEQUENCE:3
DTSTAMP:20260419T175837Z
URL:https://business.chinovalley.org/events/details/shakespeare-s-twelfth-night-6098
END:VEVENT

END:VCALENDAR
