BEGIN:VCALENDAR
VERSION:2.0
PRODID:-//ChamberMaster//Event Calendar 2.0//EN
METHOD:PUBLISH
X-PUBLISHED-TTL:P3D
REFRESH-INTERVAL:P3D
CALSCALE:GREGORIAN
BEGIN:VEVENT
DTSTART:20251216T170000Z
DTEND:20251216T190000Z
X-MICROSOFT-CDO-ALLDAYEVENT:FALSE
SUMMARY:Singing Santa
DESCRIPTION:Santa & Mrs. Claus sing\, play guitar\, read stories\, give out treat bags\, visit with children\, and take family photos at Chino Valley Public Library! If you can't make it Tuesday 12/16\, they will be back Friday 12/19 (but Friday is likely to be busier). Free\, come experience North Pole charm right in Chino Valley!
X-ALT-DESC;FMTTYPE=text/html:Santa &amp\; Mrs. Claus sing\, play guitar\, read stories\, give out treat bags\, visit with children\, and take family photos at Chino Valley Public Library! If you can&#39\;t make it Tuesday 12/16\, they will be back Friday 12/19 (but Friday is likely to be busier). Free\, come experience North Pole charm right in Chino Valley!
LOCATION:Chino Valley Public Library
UID:e.1880.6119
SEQUENCE:3
DTSTAMP:20260421T203139Z
URL:https://business.chinovalley.org/events/details/singing-santa-6119
END:VEVENT

END:VCALENDAR
