BEGIN:VCALENDAR
VERSION:2.0
PRODID:-//ChamberMaster//Event Calendar 2.0//EN
METHOD:PUBLISH
X-PUBLISHED-TTL:P3D
REFRESH-INTERVAL:P3D
CALSCALE:GREGORIAN
BEGIN:VEVENT
DTSTART:20260725T230000Z
DTEND:20260726T020000Z
X-MICROSOFT-CDO-ALLDAYEVENT:FALSE
SUMMARY:Sip & Paint
DESCRIPTION:Enjoy wine & appetizers while a local artist teaches you to paint one of the wonderful animals here at Heritage Park Zoological Sanctuary. This is an Adult Only Event for individuals 21+. Pre-Registration is required\, and space is limited. Admission $45. You may register on our Website\, Heritage Park Zoological Sanctuary\, under Events or call (928) 778-4242.
X-ALT-DESC;FMTTYPE=text/html:Enjoy wine &amp\; appetizers while a local artist teaches you to paint one of the wonderful animals here at Heritage Park Zoological Sanctuary. This is an Adult Only Event for individuals 21+. Pre-Registration is required\, and space is limited. Admission $45. You may register on our Website\,&nbsp\;<a href="https://heritageparkzoo.org/">Heritage Park Zoological Sanctuary</a>\, under Events or call (928) 778-4242.
LOCATION:Heritage Park Zoological Sanctuary 1403 Heritage Park Road Prescott\, AZ 86301
UID:e.1880.6374
SEQUENCE:3
DTSTAMP:20260422T073954Z
URL:https://business.chinovalley.org/events/details/sip-paint-07-25-2026-6374
END:VEVENT

END:VCALENDAR
