BEGIN:VCALENDAR
VERSION:2.0
PRODID:-//ChamberMaster//Event Calendar 2.0//EN
METHOD:PUBLISH
X-PUBLISHED-TTL:P3D
REFRESH-INTERVAL:P3D
CALSCALE:GREGORIAN
BEGIN:VEVENT
DTSTART:20250919T180000Z
DTEND:20250919T190000Z
X-MICROSOFT-CDO-ALLDAYEVENT:FALSE
SUMMARY:STEM Water Workshop
DESCRIPTION:Join Carollo Cares for a free educational workshop for Elementary kids about the importance of water - make a water filter too!
X-ALT-DESC;FMTTYPE=text/html:Join Carollo Cares for a free educational workshop for Elementary kids about the importance of water - make a water filter too!
LOCATION:Chino Valley Public Library
UID:e.1880.6044
SEQUENCE:3
DTSTAMP:20260419T143837Z
URL:https://business.chinovalley.org/events/details/stem-water-workshop-6044
END:VEVENT

END:VCALENDAR
