BEGIN:VCALENDAR
VERSION:2.0
PRODID:-//ChamberMaster//Event Calendar 2.0//EN
METHOD:PUBLISH
X-PUBLISHED-TTL:P3D
REFRESH-INTERVAL:P3D
CALSCALE:GREGORIAN
BEGIN:VEVENT
DTSTART:20251012T220000Z
DTEND:20251013T000000Z
X-MICROSOFT-CDO-ALLDAYEVENT:FALSE
SUMMARY:Stories in Song
DESCRIPTION:From sweeping epics to lyrical folk tunes\, this concert brings powerful stories to life through music. The Yavapai College Concert Band\, Symphony Orchestra\, and Symphonic Band explore narrative soundscapes in works like Tchaikovsky's Romeo and Juliet and Johan de Meij's Lord of the Rings.
X-ALT-DESC;FMTTYPE=text/html:From sweeping epics to lyrical folk tunes\, this concert brings powerful stories to life through music. The Yavapai College Concert Band\, Symphony Orchestra\, and Symphonic Band explore narrative soundscapes in works like Tchaikovsky&rsquo\;s Romeo and Juliet and Johan de Meij&rsquo\;s Lord of the Rings.
LOCATION:Jim and Linda Lee Performing Arts Center 1100 E Sheldon St\, Prescott\, AZ 86301
UID:e.1880.6072
SEQUENCE:3
DTSTAMP:20260419T161939Z
URL:https://business.chinovalley.org/events/details/stories-in-song-6072
END:VEVENT

END:VCALENDAR
