BEGIN:VCALENDAR
VERSION:2.0
PRODID:-//ChamberMaster//Event Calendar 2.0//EN
METHOD:PUBLISH
X-PUBLISHED-TTL:P3D
REFRESH-INTERVAL:P3D
CALSCALE:GREGORIAN
BEGIN:VEVENT
DTSTART:20250812T170000Z
DTEND:20250812T181500Z
X-MICROSOFT-CDO-ALLDAYEVENT:FALSE
SUMMARY:Storytimes
DESCRIPTION:Free storytimes for young families. 10-10:30am is for little ones\, 10:30-11:15am is for bigger kids. Songs/games\, stories\, snack (& craft for big kids)!
X-ALT-DESC;FMTTYPE=text/html:Free storytimes for young families. 10-10:30am is for little ones\, 10:30-11:15am is for bigger kids. Songs/games\, stories\, snack (&amp\; craft for big kids)!
LOCATION:Tuesdays inside Chino Valley Public Library\, Fridays are outside in Memory Park
UID:e.1880.6024
SEQUENCE:3
DTSTAMP:20260419T130656Z
URL:https://business.chinovalley.org/events/details/storytimes-6024
END:VEVENT

END:VCALENDAR
