BEGIN:VCALENDAR
VERSION:2.0
PRODID:-//ChamberMaster//Event Calendar 2.0//EN
METHOD:PUBLISH
X-PUBLISHED-TTL:P3D
REFRESH-INTERVAL:P3D
CALSCALE:GREGORIAN
BEGIN:VEVENT
DTSTART:20260622T153000Z
DTEND:20260626T220000Z
X-MICROSOFT-CDO-ALLDAYEVENT:FALSE
SUMMARY:Summer Zoo Camp Week 4
DESCRIPTION:Looking for something fun\, exciting\, and educational for your kids to do this summer? Get hands on experience with the animals\, participate in games\, explore wildlife and nature by conducting wild investigations and creating amazing crafts. 8:30 am - 3:00 pm AGE GROUPS: 6 - 7 yrs. \; 8 - 9 yrs.\; & 10 - 12 yrs. PRICE: $225 members\; $275 non-members You may register on our Website\, Heritage Park Zoological Sanctuary\, under Education\, or call 778-4242!
X-ALT-DESC;FMTTYPE=text/html:Looking for something fun\, exciting\, and educational for your kids to do this summer? Get hands on experience with the animals\, participate in games\, explore wildlife and nature by conducting wild investigations and creating amazing crafts. 8:30 am - 3:00 pm AGE GROUPS: 6 - 7 yrs. \; 8 - 9 yrs.\; &amp\; 10 - 12 yrs. PRICE: $225 members\; $275 non-members You may register on our Website\,&nbsp\;<a href="https://heritageparkzoo.org/">Heritage Park Zoological Sanctuary</a>\, under Education\, or call 778-4242!
LOCATION:Heritage Park Zoological Sanctuary 1403 Heritage Park Road Prescott\, AZ 86301
UID:e.1880.6368
SEQUENCE:3
DTSTAMP:20260422T055019Z
URL:https://business.chinovalley.org/events/details/summer-zoo-camp-week-4-6368
END:VEVENT

END:VCALENDAR
