BEGIN:VCALENDAR
VERSION:2.0
PRODID:-//ChamberMaster//Event Calendar 2.0//EN
METHOD:PUBLISH
X-PUBLISHED-TTL:P3D
REFRESH-INTERVAL:P3D
CALSCALE:GREGORIAN
BEGIN:VEVENT
DTSTART:20251001T163000Z
DTEND:20251001T183000Z
X-MICROSOFT-CDO-ALLDAYEVENT:FALSE
SUMMARY:The Forge: Investing Like Jesus
DESCRIPTION:Combined Men's and Women's study regarding the topic: "Investing Like Jesus" which is one of the concepts in The Forge movie.
X-ALT-DESC;FMTTYPE=text/html:Combined Men&#39\;s and Women&#39\;s study regarding the topic: &quot\;Investing Like Jesus&quot\; which is one of the concepts in The Forge movie.
LOCATION:Saving Grace Lutheran Church 440 W Palomino Rd PO Box 721 Chino Valley\, AZ 86323
UID:e.1880.6066
SEQUENCE:3
DTSTAMP:20260419T162036Z
URL:https://business.chinovalley.org/events/details/the-forge-investing-like-jesus-6066
END:VEVENT

END:VCALENDAR
