BEGIN:VCALENDAR
VERSION:2.0
PRODID:-//ChamberMaster//Event Calendar 2.0//EN
METHOD:PUBLISH
X-PUBLISHED-TTL:P3D
REFRESH-INTERVAL:P3D
CALSCALE:GREGORIAN
BEGIN:VEVENT
DTSTART:20250924T163000Z
DTEND:20250924T183000Z
X-MICROSOFT-CDO-ALLDAYEVENT:FALSE
SUMMARY:The Forge: Leading Like Jesus
DESCRIPTION:Combined Men's and Women's Study regarding the topic: "Leading Like Jesus" which is one of the key concepts in The Forge movie.
X-ALT-DESC;FMTTYPE=text/html:Combined Men&#39\;s and Women&#39\;s Study regarding the topic: &quot\;Leading Like Jesus&quot\; which is one of the key concepts in The Forge movie.
LOCATION:Saving Grace Lutheran Church 440 W Palomino Rd. PO Box 721 Chino Valley\, AZ 86323
UID:e.1880.6065
SEQUENCE:3
DTSTAMP:20260419T144009Z
URL:https://business.chinovalley.org/events/details/the-forge-leading-like-jesus-6065
END:VEVENT

END:VCALENDAR
