BEGIN:VCALENDAR
VERSION:2.0
PRODID:-//ChamberMaster//Event Calendar 2.0//EN
METHOD:PUBLISH
X-PUBLISHED-TTL:P3D
REFRESH-INTERVAL:P3D
CALSCALE:GREGORIAN
BEGIN:VEVENT
DTSTART:20251025T020000Z
DTEND:20251101T065500Z
X-MICROSOFT-CDO-ALLDAYEVENT:FALSE
SUMMARY:The Rocky Horror Show
DESCRIPTION:The Rocky Horror Show is a musical with music\, lyrics and book by Richard O'Brien. A humorous tribute to various B movies associated with the science fiction and horror genres from the 1930s to the early 1960s\, the musical tells the story of a newly engaged couple getting caught in a storm and coming to the home of a mad transvestite scientist\, Dr Frank-N-Furter\, unveiling his new creation\, Rocky\, a sort of Frankenstein-style monster in the form of an artificially made\, fully grown\, physically perfect muscle man complete "with blond hair and a tan". Ages 18 and above only. Alcohol will be served to those 21 and over. We will also be selling "Goodie Bags" so you can interact with the fun!
X-ALT-DESC;FMTTYPE=text/html:The Rocky Horror Show is a musical with music\, lyrics and book by Richard O&#39\;Brien. A humorous tribute to various B movies associated with the science fiction and horror genres from the 1930s to the early 1960s\, the musical tells the story of a newly engaged couple getting caught in a storm and coming to the home of a mad transvestite scientist\, Dr Frank-N-Furter\, unveiling his new creation\, Rocky\, a sort of Frankenstein-style monster in the form of an artificially made\, fully grown\, physically perfect muscle man complete &quot\;with blond hair and a tan&quot\;. Ages 18 and above only. Alcohol will be served to those 21 and over. We will also be selling &ldquo\;Goodie Bags&rdquo\; so you can interact with the fun!
LOCATION:Main Street Theatre 3235 N. Main Street Prescott Valley\, AZ 86314
UID:e.1880.6096
SEQUENCE:3
DTSTAMP:20260419T162145Z
URL:https://business.chinovalley.org/events/details/the-rocky-horror-show-10-24-2025-6096
END:VEVENT

END:VCALENDAR
