BEGIN:VCALENDAR
VERSION:2.0
PRODID:-//ChamberMaster//Event Calendar 2.0//EN
METHOD:PUBLISH
X-PUBLISHED-TTL:P3D
REFRESH-INTERVAL:P3D
CALSCALE:GREGORIAN
BEGIN:VEVENT
DTSTART:20251203T010000Z
DTEND:20251203T030000Z
X-MICROSOFT-CDO-ALLDAYEVENT:FALSE
SUMMARY:The Valley of Lights
DESCRIPTION:Walk through the 1-mile display of holiday lights! The Valley of Lights will be reserved for walking only on Tuesday\, Dec. 2\, 6-8 p.m. It's an annual tradition that never loses its sparkle! Donations are gratefully accepted. Parking is on 2nd Street in the open lot next to the car wash. For more information contact the Prescott Valley Chamber of Commerce.
X-ALT-DESC;FMTTYPE=text/html:Walk through the 1-mile display of holiday lights! The Valley of Lights will be reserved for walking only on Tuesday\, Dec. 2\, 6-8 p.m. It&rsquo\;s an annual tradition that never loses its sparkle! Donations are gratefully accepted. Parking is on 2nd Street in the open lot next to the car wash. For more information contact the Prescott Valley Chamber of Commerce.
LOCATION:Fain Park 2200 N 5th St. Prescott Valley\, Arizona
UID:e.1880.6105
SEQUENCE:3
DTSTAMP:20260421T215343Z
URL:https://business.chinovalley.org/events/details/the-valley-of-lights-6105
END:VEVENT

END:VCALENDAR
