BEGIN:VCALENDAR
VERSION:2.0
PRODID:-//ChamberMaster//Event Calendar 2.0//EN
METHOD:PUBLISH
X-PUBLISHED-TTL:P3D
REFRESH-INTERVAL:P3D
CALSCALE:GREGORIAN
BEGIN:VEVENT
DTSTART:20251025T210000Z
DTEND:20251026T010000Z
X-MICROSOFT-CDO-ALLDAYEVENT:FALSE
SUMMARY:Trick or Treating at Memorial Park
DESCRIPTION:Free Family Event Join us for a movie right after! For more information call or email the Recreation Department at: 928.636.9780 Recreation@chinoaz.net
X-ALT-DESC;FMTTYPE=text/html:Free Family Event Join us for a movie right after! For more information call or email the Recreation Department at: 928.636.9780 Recreation@chinoaz.net
LOCATION:Memory Park 1020 Palomino Rd. Chin Valley\, AZ
UID:e.1880.6093
SEQUENCE:3
DTSTAMP:20260419T162025Z
URL:https://business.chinovalley.org/events/details/trick-or-treating-at-memorial-park-6093
END:VEVENT

END:VCALENDAR
