BEGIN:VCALENDAR
VERSION:2.0
PRODID:-//ChamberMaster//Event Calendar 2.0//EN
METHOD:PUBLISH
X-PUBLISHED-TTL:P3D
REFRESH-INTERVAL:P3D
CALSCALE:GREGORIAN
BEGIN:VEVENT
DTSTART:20260113T183000Z
DTEND:20260113T200000Z
X-MICROSOFT-CDO-ALLDAYEVENT:FALSE
SUMMARY:Women in Business- January 2026
DESCRIPTION:This event is tailored towards the business women in Chamber Membership (men are allowed to attend as well). These mixers provide a unique opportunity to build professional connections\, meet fellow Chamber Members and develop soft-touch skills. We recommend you show up early to claim the seat and table you want!\n\n\n\nFriendly Requests:\n\n	Wear Your Name Tag: In the spirit of environmental consciousness\, let's make an extra effort to wear our name tags. It not only fosters a sense of community but also reduces paper waste. Let's show our commitment to sustainability!\n	Arrival Time: 11:30 am. \n\n  \n\nNetworking Opportunities:\n\n\n	Raffle Extravaganza: Bring a raffle prize to showcase your business and don't forget those business cards! It's an excellent chance to promote what you do and maybe even win something special in return.\n\n\n \n\nAbout your HOST: \n\n\n\nEl Charro Norte is the oldest continually operated Mexican restaurant in Northern Arizona serving Sonoran classics created by the Brambilla family in 1959.\n\nEl Charro Norte is now owned and operated by Gary Denny and crew. \n\nCasual dining place boasting an extensive menu of Mexican eats.
X-ALT-DESC;FMTTYPE=text/html:<span style="font-family:times new roman\;"><span style="font-size:14px\;"><font color="#0f0f0f" style="font-family: Montserrat\; font-size: 18px\;">This event is tailored towards the business women in Chamber Membership (men are allowed to attend as well). These mixers provide a unique opportunity to build professional connections\, meet fellow Chamber Memb</font><font color="#070707" style="font-family: Montserrat\; font-size: 18px\;">ers and develop soft-touch skills. We recommend you show up early to claim the seat and table you want!</font></span><br />\n<br />\n<strong style="color: rgb(23\, 23\, 23)\; font-family: Montserrat\; font-size: 18px\;">Friendly Requests:</strong></span>\n<ol style="padding-right: 0px\; color: rgb(23\, 23\, 23)\; font-family: Montserrat\; font-size: 18px\; margin: 5px 0px !important\; padding-left: 3em !important\; list-style-position: outside !important\; list-style-image: initial !important\;">\n	<li style="margin: 3px 0px 0px !important\; padding-top: 0px\; padding-right: 0px\; padding-bottom: 0px\; padding-left: 5px !important\; list-style: outside decimal !important\;"><span style="font-family:times new roman\;"><strong>Wear Your Name Tag:</strong>&nbsp\;In the spirit of environmental consciousness\, let&#39\;s make an extra effort to wear our name tags. It not only fosters a sense of community but also reduces paper waste. Let&#39\;s show our commitment to sustainability!</span></li>\n	<li style="margin: 3px 0px 0px !important\; padding-top: 0px\; padding-right: 0px\; padding-bottom: 0px\; padding-left: 5px !important\; list-style: outside decimal !important\;"><span style="font-family:times new roman\;"><strong>Arrival Time:</strong>&nbsp\;<strong>11:30 am</strong>.&nbsp\;</span></li>\n</ol>\n<span style="font-family:times new roman\;"> <span style="color: rgb(23\, 23\, 23)\; font-size: 18px\;">&nbsp\;</span><br style="color: rgb(23\, 23\, 23)\; font-family: Montserrat\; font-size: 18px\;" />\n<strong style="color: rgb(23\, 23\, 23)\; font-family: Montserrat\; font-size: 18px\;">Networking Opportunities:</strong></span>\n\n<ul style="padding-right: 0px\; color: rgb(23\, 23\, 23)\; font-family: Montserrat\; font-size: 18px\; margin: 5px 0px !important\; padding-left: 3em !important\; list-style-position: outside !important\; list-style-image: initial !important\;">\n	<li style="margin: 3px 0px 0px !important\; padding-top: 0px\; padding-right: 0px\; padding-bottom: 0px\; padding-left: 5px !important\; list-style: outside disc !important\;"><span style="font-family:times new roman\;"><strong>Raffle Extravaganza:</strong>&nbsp\;Bring a raffle prize to showcase your business and don&#39\;t forget those business cards! It&#39\;s an excellent chance to promote what you do and maybe even win something special in return.</span></li>\n</ul>\n\n<div style="margin: 3px 0px 0px !important\; padding-top: 0px\; padding-right: 0px\; padding-bottom: 0px\; padding-left: 5px !important\; list-style: outside disc !important\;">&nbsp\;</div>\n\n<div style="margin: 3px 0px 0px !important\; padding-top: 0px\; padding-right: 0px\; padding-bottom: 0px\; padding-left: 5px !important\; list-style: outside disc !important\;"><span style="font-family:times new roman\;"><span style="font-size:18px\;"><strong>About your HOST:</strong>&nbsp\;</span><br />\n<br />\n<span style="font-size:18px\;"><span style="color: rgb(0\, 0\, 0)\;">El Charro Norte is the oldest continually operated Mexican restaurant in Northern Arizona serving Sonoran classics created by the Brambilla family in 1959.</span><br style="color: rgb(0\, 0\, 0)\; font-family: arial\; font-size: 14px\;" />\n<span style="color: rgb(0\, 0\, 0)\;">El Charro Norte is now owned and operated by Gary Denny and crew.&nbsp\;</span><br style="color: rgb(0\, 0\, 0)\; font-family: arial\; font-size: 14px\;" />\n<span style="color: rgb(0\, 0\, 0)\;">Casual dining place boasting an extensive menu of Mexican eats.&nbsp\;</span></span></span></div>\n
LOCATION:2879 N. Arizona Trail\, Chino Valley\, Az 86323 (928) 460-5869
UID:e.1880.6126
SEQUENCE:3
DTSTAMP:20260419T224018Z
URL:https://business.chinovalley.org/events/details/women-in-business-january-2026-6126
END:VEVENT

END:VCALENDAR
