BEGIN:VCALENDAR
VERSION:2.0
PRODID:-//ChamberMaster//Event Calendar 2.0//EN
METHOD:PUBLISH
X-PUBLISHED-TTL:P3D
REFRESH-INTERVAL:P3D
CALSCALE:GREGORIAN
BEGIN:VEVENT
DTSTART:20250910T220000Z
DTEND:20250911T010000Z
X-MICROSOFT-CDO-ALLDAYEVENT:FALSE
SUMMARY:Yavapai College Prescott Valley Job Fair
DESCRIPTION:Yavapai College Prescott Valley Job Fair Wednesday\, September 10\, 2025 3:30pm to 6pm Katherine Anderson\, katherine.anderson@yc.edu\, 928-776-2008 Findlay Toyota Center\, 3201 N. Main St\, Prescott Valley Website: https://www.ycredc.com/events Connect with industry experts within the community\, get answers to your questions\, open doors to potential job prospects\, and explore potential job leads. Whether you're a student\, a recent graduate\, or contemplating a career change\, this event is for you. Learn the latest information about careers. Apply for part-time\, full-time\, temporary\, or seasonal jobs. Meet with representatives from business\, healthcare & non-profit organizations. Early admission at 3:00pm for veterans\, individuals 55 and older\, and job seekers with disabilities. For more information and a complete listing of participating companies\, please visit https://www.ycredc.com/events/prescott-valley-job-fair-2025
X-ALT-DESC;FMTTYPE=text/html:Yavapai College Prescott Valley Job Fair Wednesday\, September 10\, 2025 3:30pm to 6pm Katherine Anderson\, katherine.anderson@yc.edu\, 928-776-2008 Findlay Toyota Center\, 3201 N. Main St\, Prescott Valley Website: https://www.ycredc.com/events Connect with industry experts within the community\, get answers to your questions\, open doors to potential job prospects\, and explore potential job leads. Whether you&#39\;re a student\, a recent graduate\, or contemplating a career change\, this event is for you. Learn the latest information about careers. Apply for part-time\, full-time\, temporary\, or seasonal jobs. Meet with representatives from business\, healthcare &amp\; non-profit organizations. Early admission at 3:00pm for veterans\, individuals 55 and older\, and job seekers with disabilities. For more information and a complete listing of participating companies\, please visit https://www.ycredc.com/events/prescott-valley-job-fair-2025
LOCATION:Findlay Toyota Center 3201 N. Main St. Prescott Valley\, AZ 86314
UID:e.1880.6045
SEQUENCE:3
DTSTAMP:20260419T145817Z
URL:https://business.chinovalley.org/events/details/yavapai-college-prescott-valley-job-fair-09-10-2025-6045
END:VEVENT

END:VCALENDAR
