BEGIN:VCALENDAR
VERSION:2.0
PRODID:-//ChamberMaster//Event Calendar 2.0//EN
METHOD:PUBLISH
X-PUBLISHED-TTL:P3D
REFRESH-INTERVAL:P3D
CALSCALE:GREGORIAN
BEGIN:VEVENT
DTSTART:20250906T170000Z
DTEND:20250906T200000Z
X-MICROSOFT-CDO-ALLDAYEVENT:FALSE
SUMMARY:Yavapai County Recovery Day Celebration
DESCRIPTION:Join the Voices of Recovery: Together We Stand Stronger This uplifting community event celebrates the strength and resilience of those in recovery while raising awareness about substance use and mental health. Enjoy an afternoon filled with: ?? Delicious food trucks ?? Powerful personal testimonials ?? A community art exhibit ?? Fun kids' activities ?? Live music ?? Recovery resources and local support information Whether you're in recovery\, supporting a loved one\, or simply care about creating a healthier community   this event is for you. Come together\, connect\, and be inspired. ??
X-ALT-DESC;FMTTYPE=text/html:Join the Voices of Recovery: Together We Stand Stronger This uplifting community event celebrates the strength and resilience of those in recovery while raising awareness about substance use and mental health. Enjoy an afternoon filled with: ?? Delicious food trucks ?? Powerful personal testimonials ?? A community art exhibit ?? Fun kids&#39\; activities ?? Live music ?? Recovery resources and local support information Whether you&#39\;re in recovery\, supporting a loved one\, or simply care about creating a healthier community &mdash\; this event is for you. Come together\, connect\, and be inspired. ??
LOCATION:A.C. Williams Granite Creek Park Ramada 554 N 6th Street\, Prescott\, AZ 86301
UID:e.1880.6009
SEQUENCE:3
DTSTAMP:20260419T144350Z
URL:https://business.chinovalley.org/events/details/yavapai-county-recovery-day-celebration-6009
END:VEVENT

END:VCALENDAR
