BEGIN:VCALENDAR
VERSION:2.0
PRODID:-//ChamberMaster//Event Calendar 2.0//EN
METHOD:PUBLISH
X-PUBLISHED-TTL:P3D
REFRESH-INTERVAL:P3D
CALSCALE:GREGORIAN
BEGIN:VEVENT
DTSTART:20260730T023000Z
DTEND:20260730T043000Z
X-MICROSOFT-CDO-ALLDAYEVENT:FALSE
SUMMARY:Zoo by Moonlight
DESCRIPTION:Zoo By Moonlight is an evening event held at Heritage Park Zoological Sanctuary from May through October. It provides a great opportunity to see the Sanctuary's nocturnal residents. Enjoy our Clouded Leopards\, wolves\, coyotes and much more by the light of the full moon. Pricing: Admission $10 for members\, $12 for non-members. Children Under 3 Free. It's a howling good time!\n\nHeritage Park Zoological Sanctuary
X-ALT-DESC;FMTTYPE=text/html:Zoo By Moonlight is an evening event held at Heritage Park Zoological Sanctuary from May through October. It provides a great opportunity to see the Sanctuary&#39\;s nocturnal residents. Enjoy our Clouded Leopards\, wolves\, coyotes and much more by the light of the full moon. Pricing: Admission $10 for members\, $12 for non-members. Children Under 3 Free. It&#39\;s a howling good time!<br />\n<a href="https://heritageparkzoo.org/">Heritage Park Zoological Sanctuary</a>
LOCATION:Heritage Park Zoological Sanctuary 1403 Heritage Park Road Prescott\, AZ 86301
UID:e.1880.6375
SEQUENCE:3
DTSTAMP:20260422T073955Z
URL:https://business.chinovalley.org/events/details/zoo-by-moonlight-07-29-2026-6375
END:VEVENT

END:VCALENDAR
